BEGIN:VCALENDAR
VERSION:2.0
PRODID:-//Company Service - ECPv6.15.17.1//NONSGML v1.0//EN
CALSCALE:GREGORIAN
METHOD:PUBLISH
X-WR-CALNAME:Company Service
X-ORIGINAL-URL:https://company-service.it
X-WR-CALDESC:Eventi per Company Service
REFRESH-INTERVAL;VALUE=DURATION:PT1H
X-Robots-Tag:noindex
X-PUBLISHED-TTL:PT1H
BEGIN:VTIMEZONE
TZID:Europe/Rome
BEGIN:DAYLIGHT
TZOFFSETFROM:+0100
TZOFFSETTO:+0200
TZNAME:CEST
DTSTART:20250330T010000
END:DAYLIGHT
BEGIN:STANDARD
TZOFFSETFROM:+0200
TZOFFSETTO:+0100
TZNAME:CET
DTSTART:20251026T010000
END:STANDARD
BEGIN:DAYLIGHT
TZOFFSETFROM:+0100
TZOFFSETTO:+0200
TZNAME:CEST
DTSTART:20260329T010000
END:DAYLIGHT
BEGIN:STANDARD
TZOFFSETFROM:+0200
TZOFFSETTO:+0100
TZNAME:CET
DTSTART:20261025T010000
END:STANDARD
BEGIN:DAYLIGHT
TZOFFSETFROM:+0100
TZOFFSETTO:+0200
TZNAME:CEST
DTSTART:20270328T010000
END:DAYLIGHT
BEGIN:STANDARD
TZOFFSETFROM:+0200
TZOFFSETTO:+0100
TZNAME:CET
DTSTART:20271031T010000
END:STANDARD
END:VTIMEZONE
BEGIN:VEVENT
DTSTART;TZID=Europe/Rome:20260423T090000
DTEND;TZID=Europe/Rome:20260424T170000
DTSTAMP:20260423T011802
CREATED:20260225T094917Z
LAST-MODIFIED:20260225T094917Z
UID:7553-1776934800-1777050000@company-service.it
SUMMARY:SMART REPAIR: Verniciatura localizzata ad alta efficienza
DESCRIPTION:SMART REPAIR: Verniciatura localizzata ad alta efficienza\nOBIETTIVI\nIl corso ideale per aumentare produttività e marginalità riducendo tempi e superfici di intervento\, senza compromettere la qualità finale. \nContenuti principali: \n\nScelta dei prodotti in base al danno\nUtilizzo di attrezzature dedicate\nTecniche di sfumatura base e trasparente\nImpostazioni corrette dell’aerografo\nRifinitura e lucidatura finale
URL:https://company-service.it/corso/smart-repair-verniciatura-localizzata-ad-alta-efficienza/
LOCATION:Centro tecnico\, Via Emidio Villa\, Reggio Emilia\, 42124
CATEGORIES:corsi carrozzeria
ATTACH;FMTTYPE=image/png:https://company-service.it/cmps_wp_2023/wp-content/uploads/2026/02/Verniciatura-localizzata-ad-alta-efficienza.png
END:VEVENT
END:VCALENDAR