BEGIN:VCALENDAR
VERSION:2.0
PRODID:-//Company Service - ECPv6.15.17.1//NONSGML v1.0//EN
CALSCALE:GREGORIAN
METHOD:PUBLISH
X-ORIGINAL-URL:https://company-service.it
X-WR-CALDESC:Eventi per Company Service
REFRESH-INTERVAL;VALUE=DURATION:PT1H
X-Robots-Tag:noindex
X-PUBLISHED-TTL:PT1H
BEGIN:VTIMEZONE
TZID:Europe/Rome
BEGIN:DAYLIGHT
TZOFFSETFROM:+0100
TZOFFSETTO:+0200
TZNAME:CEST
DTSTART:20240331T010000
END:DAYLIGHT
BEGIN:STANDARD
TZOFFSETFROM:+0200
TZOFFSETTO:+0100
TZNAME:CET
DTSTART:20241027T010000
END:STANDARD
BEGIN:DAYLIGHT
TZOFFSETFROM:+0100
TZOFFSETTO:+0200
TZNAME:CEST
DTSTART:20250330T010000
END:DAYLIGHT
BEGIN:STANDARD
TZOFFSETFROM:+0200
TZOFFSETTO:+0100
TZNAME:CET
DTSTART:20251026T010000
END:STANDARD
BEGIN:DAYLIGHT
TZOFFSETFROM:+0100
TZOFFSETTO:+0200
TZNAME:CEST
DTSTART:20260329T010000
END:DAYLIGHT
BEGIN:STANDARD
TZOFFSETFROM:+0200
TZOFFSETTO:+0100
TZNAME:CET
DTSTART:20261025T010000
END:STANDARD
END:VTIMEZONE
BEGIN:VEVENT
DTSTART;TZID=Europe/Rome:20250327T090000
DTEND;TZID=Europe/Rome:20250328T170000
DTSTAMP:20260425T132729
CREATED:20250217T122624Z
LAST-MODIFIED:20250217T132329Z
UID:7064-1743066000-1743181200@company-service.it
SUMMARY:Corso Danni medi
DESCRIPTION:Diventa un esperto nella riparazione della lamiera! \nVuoi imparare l’arte di raddrizzare la lamiera e diventare un vero professionista? La riparazione dell’acciaio richiede tecnica\, esperienza e i giusti strumenti\, ma con metodi innovativi e procedure standardizzate\, puoi imparare molto più velocemente! \n🔹 Cosa imparerai in questo corso?\n✅ Tecniche avanzate per la riparazione del pannello esterno\n✅ Uso corretto dello spotter e scelta degli utensili migliori\n✅ Preparazione e rimozione della vernice senza errori\n✅ Riparazione di danni su linee e pannelli laterali con barre\, chiodi e innopuller\n✅ Come eliminare ammaccature su maniglie con precisione\n✅ Uso strategico della calda carbone e pulsata per risultati perfetti \n🚀 Sei pronto a trasformare la tua passione in una vera competenza? Questo corso è l’occasione perfetta per chi vuole imparare da zero o affinare le proprie tecniche!
URL:https://company-service.it/corso/corso-danni-medi/
LOCATION:Centro tecnico\, Via Emidio Villa\, Reggio Emilia\, 42124
CATEGORIES:corsi carrozzeria
ATTACH;FMTTYPE=image/png:https://company-service.it/cmps_wp_2023/wp-content/uploads/2025/02/danni-medi.png
END:VEVENT
END:VCALENDAR