BEGIN:VCALENDAR
VERSION:2.0
PRODID:-//Company Service - ECPv6.15.17.1//NONSGML v1.0//EN
CALSCALE:GREGORIAN
METHOD:PUBLISH
X-ORIGINAL-URL:https://company-service.it
X-WR-CALDESC:Eventi per Company Service
REFRESH-INTERVAL;VALUE=DURATION:PT1H
X-Robots-Tag:noindex
X-PUBLISHED-TTL:PT1H
BEGIN:VTIMEZONE
TZID:Europe/Rome
BEGIN:DAYLIGHT
TZOFFSETFROM:+0100
TZOFFSETTO:+0200
TZNAME:CEST
DTSTART:20240331T010000
END:DAYLIGHT
BEGIN:STANDARD
TZOFFSETFROM:+0200
TZOFFSETTO:+0100
TZNAME:CET
DTSTART:20241027T010000
END:STANDARD
BEGIN:DAYLIGHT
TZOFFSETFROM:+0100
TZOFFSETTO:+0200
TZNAME:CEST
DTSTART:20250330T010000
END:DAYLIGHT
BEGIN:STANDARD
TZOFFSETFROM:+0200
TZOFFSETTO:+0100
TZNAME:CET
DTSTART:20251026T010000
END:STANDARD
BEGIN:DAYLIGHT
TZOFFSETFROM:+0100
TZOFFSETTO:+0200
TZNAME:CEST
DTSTART:20260329T010000
END:DAYLIGHT
BEGIN:STANDARD
TZOFFSETFROM:+0200
TZOFFSETTO:+0100
TZNAME:CET
DTSTART:20261025T010000
END:STANDARD
END:VTIMEZONE
BEGIN:VEVENT
DTSTART;TZID=Europe/Rome:20251023T090000
DTEND;TZID=Europe/Rome:20251024T170000
DTSTAMP:20260422T212806
CREATED:20250210T095534Z
LAST-MODIFIED:20250915T121954Z
UID:7032-1761210000-1761325200@company-service.it
SUMMARY:Lucidatura e Nanotecnologia
DESCRIPTION:La nanotecnologia è una vernice protettiva trasparente progettata per proteggere l’auto contro gli agenti atmosferici\, un prodotto senza solventi che rispetta l’ambiente. Questo tipo di trattamento è sempre più richiesto\, ma se non viene applicato con le giuste regole e non vengono eliminati i difetti si rischia di fare più un danno che un bel lavoro. In collaborazione con Extreme Plus\, leader di questo settore\, organizziamo questo divertente corso di due giorni \nProgramma: \n\nSicurezza sul lavoro: normativa\, DPI\, etichettatura e SDS\nPreparazione vettura: possibili problematiche e analisi dei supporti\nDecontaminazione\nCorrezione\nRifinitura\nProdotti del Sistema\nNano-tech: come funziona\nNano-tech: finalità e vantaggi\nNano-tech: X-P MINI TRATTAMENTO\nNano-tech: X-P AUTO\nApplicazione Nanotecnologia\nRisultati\nVari settori di impiego: auto\, moto\, bike\, motorhome\, truck\, nautica\, aereo.\n\n  \nProdotti utilizzati: Extreme Plus
URL:https://company-service.it/corso/lucidaturananotecnologia/
LOCATION:Centro tecnico\, Via Emidio Villa\, Reggio Emilia\, 42124
CATEGORIES:corsi carrozzeria
ATTACH;FMTTYPE=image/png:https://company-service.it/cmps_wp_2023/wp-content/uploads/2025/02/NEW-LAYOUT-CORSI-COMPANY-32.png
END:VEVENT
BEGIN:VEVENT
DTSTART;TZID=Europe/Rome:20251028T090000
DTEND;TZID=Europe/Rome:20251029T170000
DTSTAMP:20260422T212806
CREATED:20250128T122340Z
LAST-MODIFIED:20250915T123001Z
UID:6994-1761642000-1761757200@company-service.it
SUMMARY:Corso Preparatori
DESCRIPTION:Verniciatura perfetta? Tutto parte dalla giusta preparazione! 🚗✨ \nLo sapevi che molti difetti di verniciatura emergono mesi dopo la riparazione a causa di una preparazione errata del supporto? 😱 \nNon lasciare nulla al caso! In 2 giorni di full immersion\, imparerai le tecniche fondamentali per una finitura impeccabile. \n🔥 Cosa imparerai?\n✅ Come scegliere supporti e prodotti giusti\n✅ Tecniche di carteggiatura efficaci\n✅ Prevenzione di difetti e problemi nel tempo\n✅ Applicazione e carteggiatura di stucchi e fondi \n📅 Non perdere questa occasione: perfeziona la tua tecnica e porta la tua verniciatura al livello successivo! \n  \n 
URL:https://company-service.it/corso/preparatori/
LOCATION:Centro tecnico\, Via Emidio Villa\, Reggio Emilia\, 42124
CATEGORIES:corsi carrozzeria
ATTACH;FMTTYPE=image/png:https://company-service.it/cmps_wp_2023/wp-content/uploads/2025/01/NEW-LAYOUT-CORSI-COMPANY-30.png
END:VEVENT
BEGIN:VEVENT
DTSTART;TZID=Europe/Rome:20251030T090000
DTEND;TZID=Europe/Rome:20251031T170000
DTSTAMP:20260422T212806
CREATED:20250915T122447Z
LAST-MODIFIED:20250915T122447Z
UID:7332-1761814800-1761930000@company-service.it
SUMMARY:Lucidatura e Nanotecnologia - Centro tecnico di Rimini
DESCRIPTION:La nanotecnologia è una vernice protettiva trasparente progettata per proteggere l’auto contro gli agenti atmosferici\, un prodotto senza solventi che rispetta l’ambiente. Questo tipo di trattamento è sempre più richiesto\, ma se non viene applicato con le giuste regole e non vengono eliminati i difetti si rischia di fare più un danno che un bel lavoro. In collaborazione con Extreme Plus\, leader di questo settore\, organizziamo questo divertente corso di due giorni \nProgramma: \n\nSicurezza sul lavoro: normativa\, DPI\, etichettatura e SDS\nPreparazione vettura: possibili problematiche e analisi dei supporti\nDecontaminazione\nCorrezione\nRifinitura\nProdotti del Sistema\nNano-tech: come funziona\nNano-tech: finalità e vantaggi\nNano-tech: X-P MINI TRATTAMENTO\nNano-tech: X-P AUTO\nApplicazione Nanotecnologia\nRisultati\nVari settori di impiego: auto\, moto\, bike\, motorhome\, truck\, nautica\, aereo.\n\n  \nProdotti utilizzati: Extreme Plus
URL:https://company-service.it/corso/lucidatura-e-nanotecnologia-centro-tecnico-di-rimini/
LOCATION:Colornetwork\, Via Casalecchio\, 27\, Rimini\, 47924
CATEGORIES:corsi carrozzeria
ATTACH;FMTTYPE=image/png:https://company-service.it/cmps_wp_2023/wp-content/uploads/2025/09/NEW-LAYOUT-CORSI-COMPANY-31.png
END:VEVENT
END:VCALENDAR