BEGIN:VCALENDAR
VERSION:2.0
PRODID:-//Company Service - ECPv6.15.17.1//NONSGML v1.0//EN
CALSCALE:GREGORIAN
METHOD:PUBLISH
X-WR-CALNAME:Company Service
X-ORIGINAL-URL:https://company-service.it
X-WR-CALDESC:Eventi per Company Service
REFRESH-INTERVAL;VALUE=DURATION:PT1H
X-Robots-Tag:noindex
X-PUBLISHED-TTL:PT1H
BEGIN:VTIMEZONE
TZID:Europe/Rome
BEGIN:DAYLIGHT
TZOFFSETFROM:+0100
TZOFFSETTO:+0200
TZNAME:CEST
DTSTART:20240331T010000
END:DAYLIGHT
BEGIN:STANDARD
TZOFFSETFROM:+0200
TZOFFSETTO:+0100
TZNAME:CET
DTSTART:20241027T010000
END:STANDARD
BEGIN:DAYLIGHT
TZOFFSETFROM:+0100
TZOFFSETTO:+0200
TZNAME:CEST
DTSTART:20250330T010000
END:DAYLIGHT
BEGIN:STANDARD
TZOFFSETFROM:+0200
TZOFFSETTO:+0100
TZNAME:CET
DTSTART:20251026T010000
END:STANDARD
BEGIN:DAYLIGHT
TZOFFSETFROM:+0100
TZOFFSETTO:+0200
TZNAME:CEST
DTSTART:20260329T010000
END:DAYLIGHT
BEGIN:STANDARD
TZOFFSETFROM:+0200
TZOFFSETTO:+0100
TZNAME:CET
DTSTART:20261025T010000
END:STANDARD
END:VTIMEZONE
BEGIN:VEVENT
DTSTART;TZID=Europe/Rome:20251104T090000
DTEND;TZID=Europe/Rome:20251105T170000
DTSTAMP:20260422T200844
CREATED:20250310T131759Z
LAST-MODIFIED:20251002T085854Z
UID:7145-1762246800-1762362000@company-service.it
SUMMARY:Corso Spot Repair
DESCRIPTION:Tecnica Spot Repair: riparazioni veloci e precise! \nLa tecnica dello Spot Repair è sempre più richiesta in carrozzeria\, e per un motivo molto semplice: permette di riparare senza invadere!\nIn questo corso imparerai a limitare l’area di lavoro per ridurre la superficie da preparare e riverniciare\, risparmiando tempo e risorse\, ma senza compromettere la qualità del lavoro. \nCosa imparerai?\n✅ Saper scegliere i prodotti giusti in base alle dimensioni del danno\n✅ Utilizzare piccole attrezzature per velocizzare il lavoro\n✅ Tecniche di applicazione precise per piccoli ritocchi\, sfumatura di base e trasparente\n✅ Gestione dei fumi di verniciatura per un area di lavoro pulita\n✅ Impostazioni aerografo per risultati perfetti\n✅ Suggerimenti utili per la lucidatura finale \nImpara a fare riparazioni veloci e impeccabili\, aumentando la tua produttività senza sacrificare la qualità! Questo corso è perfetto per chi vuole perfezionarsi nella riparazione e rendere ogni intervento più efficiente.\nIscriviti subito e perfeziona la tua tecnica Spot Repair!
URL:https://company-service.it/corso/corso-spot-repair/
LOCATION:Centro tecnico\, Via Emidio Villa\, Reggio Emilia\, 42124
CATEGORIES:corsi carrozzeria
ATTACH;FMTTYPE=image/png:https://company-service.it/cmps_wp_2023/wp-content/uploads/2025/03/NEW-LAYOUT-CORSI-COMPANY-35.png
END:VEVENT
BEGIN:VEVENT
DTSTART;TZID=Europe/Rome:20251117T090000
DTEND;TZID=Europe/Rome:20251118T170000
DTSTAMP:20260422T200844
CREATED:20250528T090408Z
LAST-MODIFIED:20251002T091423Z
UID:7186-1763370000-1763485200@company-service.it
SUMMARY:Corso Riparazioni Plastiche
DESCRIPTION:🔧 Riparare un paraurti? Non è un rattoppo\, è un’arte!🚗🔥 \nSe pensi che la riparazione delle plastiche sia solo una soluzione temporanea\, è perché non conosci le tecniche giuste! 😉 Con il metodo corretto\, le riparazioni sono resistenti\, affidabili e durevoli nel tempo. \n💡 Scopri tutti i segreti della riparazione delle plastiche in un corso pratico di 2 giorni! \n🔹 Cosa imparerai? \n✅ Riconoscere e lavorare con i diversi materiali plastici \n✅ Differenze tra termoplastiche e termoindurenti e come ripararle \n✅ Tecniche avanzate di saldatura e incollaggio \n✅ Riparazione di crepe\, tagli\, fori e fissaggi del paraurti \n✅ Uso corretto di graffette e bicomponente per risultati garantiti \n✅ Preparazione perfetta per la verniciatura con tecniche professionali \n🚀 Vuoi fare la differenza in carrozzeria? Impara una competenza sempre più richiesta e diventa un esperto della riparazione delle plastiche!
URL:https://company-service.it/corso/corso-riparazioni-plastiche/
LOCATION:Centro tecnico\, Via Emidio Villa\, Reggio Emilia\, 42124
CATEGORIES:corsi carrozzeria
ATTACH;FMTTYPE=image/png:https://company-service.it/cmps_wp_2023/wp-content/uploads/2025/05/NEW-LAYOUT-CORSI-COMPANY-37.png
END:VEVENT
BEGIN:VEVENT
DTSTART;TZID=Europe/Rome:20251127T090000
DTEND;TZID=Europe/Rome:20251128T170000
DTSTAMP:20260422T200844
CREATED:20250217T112018Z
LAST-MODIFIED:20251002T095907Z
UID:7058-1764234000-1764349200@company-service.it
SUMMARY:Corso Verniciatori
DESCRIPTION:Verniciare un’auto non è mai stato così sfidante! \nI colori di oggi sono sempre più spettacolari… ma anche più complessi da applicare!  Senza la giusta tecnica\, il rischio di errori è dietro l’angolo. \nVuoi migliorare le tue capacità e verniciare senza stress? \nIn questo corso imparerai a:\n✅ Usare al meglio i prodotti di nuova generazione\n✅ Ottimizzare la tecnica applicativa ed evitare errori\n✅ Sfruttare al meglio le condizioni climatiche e ambientali\n✅ Affrontare con sicurezza una verniciatura totale o parziale\n✅ Prevenire e risolvere la macchiatura\n✅ Lavorare con colori chiari e scuri per risultati perfetti \nPerfeziona la tua tecnica e diventa un vero professionista della verniciatura!
URL:https://company-service.it/corso/corso-verniciatori/
LOCATION:Centro tecnico\, Via Emidio Villa\, Reggio Emilia\, 42124
CATEGORIES:corsi carrozzeria
ATTACH;FMTTYPE=image/png:https://company-service.it/cmps_wp_2023/wp-content/uploads/2025/02/NEW-LAYOUT-CORSI-COMPANY-38.png
END:VEVENT
END:VCALENDAR