BEGIN:VCALENDAR
VERSION:2.0
PRODID:-//Company Service - ECPv6.15.17.1//NONSGML v1.0//EN
CALSCALE:GREGORIAN
METHOD:PUBLISH
X-WR-CALNAME:Company Service
X-ORIGINAL-URL:https://company-service.it
X-WR-CALDESC:Eventi per Company Service
REFRESH-INTERVAL;VALUE=DURATION:PT1H
X-Robots-Tag:noindex
X-PUBLISHED-TTL:PT1H
BEGIN:VTIMEZONE
TZID:Europe/Rome
BEGIN:DAYLIGHT
TZOFFSETFROM:+0100
TZOFFSETTO:+0200
TZNAME:CEST
DTSTART:20240331T010000
END:DAYLIGHT
BEGIN:STANDARD
TZOFFSETFROM:+0200
TZOFFSETTO:+0100
TZNAME:CET
DTSTART:20241027T010000
END:STANDARD
BEGIN:DAYLIGHT
TZOFFSETFROM:+0100
TZOFFSETTO:+0200
TZNAME:CEST
DTSTART:20250330T010000
END:DAYLIGHT
BEGIN:STANDARD
TZOFFSETFROM:+0200
TZOFFSETTO:+0100
TZNAME:CET
DTSTART:20251026T010000
END:STANDARD
BEGIN:DAYLIGHT
TZOFFSETFROM:+0100
TZOFFSETTO:+0200
TZNAME:CEST
DTSTART:20260329T010000
END:DAYLIGHT
BEGIN:STANDARD
TZOFFSETFROM:+0200
TZOFFSETTO:+0100
TZNAME:CET
DTSTART:20261025T010000
END:STANDARD
END:VTIMEZONE
BEGIN:VEVENT
DTSTART;TZID=Europe/Rome:20251204T083000
DTEND;TZID=Europe/Rome:20251205T173000
DTSTAMP:20260422T184427
CREATED:20251002T090442Z
LAST-MODIFIED:20251110T091051Z
UID:7408-1764837000-1764955800@company-service.it
SUMMARY:Corso Leve Base - dicembre
DESCRIPTION:Riparazione danni da grandine e piccole ammaccature – Betag Innovation BASIC \nOBIETTIVI\nLa tecnica PDR\, oggi\, in carrozzeria\, è fondamentale. Per riparare la grandine ma non solo!\nLa tecnica a freddo è indispensabile su svariati danni: piccole ammaccature da parcheggio o addirittura su grandi ammaccature\, anche come tecnica di sgrossatura. Spesso riesce a sottrarre una sfumatura\, evitando di allargarsi troppo con la riparazione. \n  \nPROGRAMMA \n\nLa scelta del giusto metodo di riparazione\nRiconoscimento dell’ammaccatura\nIlluminazione e uso della lampada\nHotbox sistema ad induzione\nRibattitura con punteruolo\nSistema di tiro a colla\nDinamica degli utensili\nLe fasi di riparazione di un’ ammaccatura\nFattori esterni\nCome riparare ammaccature più grandi\nCome sviluppare le proprie competenze\nCome lavorare su un veicolo\nRifinitura\n\n 
URL:https://company-service.it/corso/corso-leve-base-dicembre/
LOCATION:Centro tecnico\, Via Emidio Villa\, Reggio Emilia\, 42124
CATEGORIES:corsi carrozzeria
ATTACH;FMTTYPE=image/png:https://company-service.it/cmps_wp_2023/wp-content/uploads/2025/10/32.png
END:VEVENT
END:VCALENDAR