BEGIN:VCALENDAR
VERSION:2.0
PRODID:-//Company Service - ECPv6.15.17.1//NONSGML v1.0//EN
CALSCALE:GREGORIAN
METHOD:PUBLISH
X-WR-CALNAME:Company Service
X-ORIGINAL-URL:https://company-service.it
X-WR-CALDESC:Eventi per Company Service
REFRESH-INTERVAL;VALUE=DURATION:PT1H
X-Robots-Tag:noindex
X-PUBLISHED-TTL:PT1H
BEGIN:VTIMEZONE
TZID:Europe/Rome
BEGIN:DAYLIGHT
TZOFFSETFROM:+0100
TZOFFSETTO:+0200
TZNAME:CEST
DTSTART:20250330T010000
END:DAYLIGHT
BEGIN:STANDARD
TZOFFSETFROM:+0200
TZOFFSETTO:+0100
TZNAME:CET
DTSTART:20251026T010000
END:STANDARD
BEGIN:DAYLIGHT
TZOFFSETFROM:+0100
TZOFFSETTO:+0200
TZNAME:CEST
DTSTART:20260329T010000
END:DAYLIGHT
BEGIN:STANDARD
TZOFFSETFROM:+0200
TZOFFSETTO:+0100
TZNAME:CET
DTSTART:20261025T010000
END:STANDARD
BEGIN:DAYLIGHT
TZOFFSETFROM:+0100
TZOFFSETTO:+0200
TZNAME:CEST
DTSTART:20270328T010000
END:DAYLIGHT
BEGIN:STANDARD
TZOFFSETFROM:+0200
TZOFFSETTO:+0100
TZNAME:CET
DTSTART:20271031T010000
END:STANDARD
END:VTIMEZONE
BEGIN:VEVENT
DTSTART;TZID=Europe/Rome:20260216T083000
DTEND;TZID=Europe/Rome:20260217T173000
DTSTAMP:20260422T153513
CREATED:20251002T094126Z
LAST-MODIFIED:20251009T095631Z
UID:7417-1771230600-1771349400@company-service.it
SUMMARY:Corso Leve Advance - 3 incontro
DESCRIPTION:Riparazione danni da grandine e piccole ammaccature – Betag Innovation Advance\nOBIETTIVI\nLa competenza in materia di piccoli danni è un elemento chiave del processo di riparazione odierno. Con questa formazione di 8 giorni (2 gg al mese x 4 mesi) creiamo un tecnico esperto in un periodo di tempo. Il motivo della formazione multipla è quello di dare al tecnico il tempo di sviluppare le competenze. Questo programma è stato implementato da diversi OEM e MSO nei vari\nmercati. Da un punto di vista pratico\, il corso di 4 incontri\, intervallati da un mese di esercizio (che dovrà essere obbligatoriamente fatto a casa)\, vi metterà delle condizioni di saper riparare le\nammaccature da parcheggio su pannelli verticali sia in area libera che in area scatolata.\nLo spirito e quello di accelerare i tempi di apprendimento di questa tecnica di riparazione attraverso incontri periodici di verifica e correzione.\nDurante il percorso formativo si lavorerà sia su pezzi che su autovetture.
URL:https://company-service.it/corso/corso-leve-advance-3-incontro/
LOCATION:Centro tecnico\, Via Emidio Villa\, Reggio Emilia\, 42124
CATEGORIES:corsi carrozzeria
ATTACH;FMTTYPE=image/png:https://company-service.it/cmps_wp_2023/wp-content/uploads/2025/10/34.png
END:VEVENT
END:VCALENDAR