BEGIN:VCALENDAR
VERSION:2.0
PRODID:-//Company Service - ECPv6.15.17.1//NONSGML v1.0//EN
CALSCALE:GREGORIAN
METHOD:PUBLISH
X-WR-CALNAME:Company Service
X-ORIGINAL-URL:https://company-service.it
X-WR-CALDESC:Eventi per Company Service
REFRESH-INTERVAL;VALUE=DURATION:PT1H
X-Robots-Tag:noindex
X-PUBLISHED-TTL:PT1H
BEGIN:VTIMEZONE
TZID:Europe/Rome
BEGIN:DAYLIGHT
TZOFFSETFROM:+0100
TZOFFSETTO:+0200
TZNAME:CEST
DTSTART:20250330T010000
END:DAYLIGHT
BEGIN:STANDARD
TZOFFSETFROM:+0200
TZOFFSETTO:+0100
TZNAME:CET
DTSTART:20251026T010000
END:STANDARD
BEGIN:DAYLIGHT
TZOFFSETFROM:+0100
TZOFFSETTO:+0200
TZNAME:CEST
DTSTART:20260329T010000
END:DAYLIGHT
BEGIN:STANDARD
TZOFFSETFROM:+0200
TZOFFSETTO:+0100
TZNAME:CET
DTSTART:20261025T010000
END:STANDARD
BEGIN:DAYLIGHT
TZOFFSETFROM:+0100
TZOFFSETTO:+0200
TZNAME:CEST
DTSTART:20270328T010000
END:DAYLIGHT
BEGIN:STANDARD
TZOFFSETFROM:+0200
TZOFFSETTO:+0100
TZNAME:CET
DTSTART:20271031T010000
END:STANDARD
END:VTIMEZONE
BEGIN:VEVENT
DTSTART;TZID=Europe/Rome:20260326T090000
DTEND;TZID=Europe/Rome:20260326T170000
DTSTAMP:20260422T135806
CREATED:20260225T103136Z
LAST-MODIFIED:20260225T103136Z
UID:7568-1774515600-1774544400@company-service.it
SUMMARY:STEEL CONTROL: Allineamento e riparazione dei pannelli in acciaio
DESCRIPTION:STEEL CONTROL: Allineamento e riparazione dei pannelli in acciaio \nUn corso tecnico di un giorno dedicato alla riparazione e allineamento dei componenti in acciaio della carrozzeria. Il percorso fornisce un metodo strutturato per intervenire correttamente sui pannelli esterni danneggiati\, nel rispetto delle specifiche OEM e delle procedure di sicurezza. \nContenuti principali: \n\nIdentificazione deimateriali e dei pannelli in acciaio\nScelta e utilizzo corretto di utensili e attrezzature\nTecniche di allineamento dei pannelli esterni\nUso dell’estrattore per ammaccature e dello spotter\nRiscaldamento a induzione per il ripristino della forma\nLevigatura manuale e con levigatrice
URL:https://company-service.it/corso/steel-control-allineamento-e-riparazione-dei-pannelli-in-acciaio/
LOCATION:Colornetwork\, Via Casalecchio\, 27\, Rimini\, 47924
CATEGORIES:corsi carrozzeria
ATTACH;FMTTYPE=image/png:https://company-service.it/cmps_wp_2023/wp-content/uploads/2026/02/Allineamento-e-riparazione-dei-pannelli-in-acciaio.png
END:VEVENT
BEGIN:VEVENT
DTSTART;TZID=Europe/Rome:20260326T090000
DTEND;TZID=Europe/Rome:20260327T170000
DTSTAMP:20260422T135806
CREATED:20260225T091158Z
LAST-MODIFIED:20260225T091158Z
UID:7547-1774515600-1774630800@company-service.it
SUMMARY:COLOR MASTERY - Tecniche professionali di verniciatura
DESCRIPTION:COLOR MASTERY: Tecniche professionali di verniciatura\nOBIETTIVI\nUn corso dedicato alle tecniche applicative moderne\, per affrontare senza errori colori metallizzati complessi\, finiture speciali e condizioni ambientali variabili. \nContenuti principali: \n\nUtilizzo corretto dei prodotti di nuova generazione\nTecniche applicative avanzate\nGestione del clima e dell’ambiente di lavoro\nVerniciature parziali e totali\nPrevenzione di macchiature e difetti cromatici
URL:https://company-service.it/corso/tecnicheprofessionalidiverniciatura/
LOCATION:Centro tecnico\, Via Emidio Villa\, Reggio Emilia\, 42124
CATEGORIES:corsi carrozzeria
ATTACH;FMTTYPE=image/png:https://company-service.it/cmps_wp_2023/wp-content/uploads/2026/02/Tecniche-professionali-di-verniciatura.png
END:VEVENT
END:VCALENDAR